BEGIN:VCALENDAR
VERSION:2.0
PRODID:gruene-sl-fl.de
METHOD:PUBLISH
BEGIN:VTIMEZONE
TZID:Europe/Berlin
X-LIC-LOCATION:Europe/Berlin
BEGIN:DAYLIGHT
TZOFFSETFROM:+0100
TZOFFSETTO:+0200
TZNAME:CEST
DTSTART:19700329T020000
RRULE:FREQ=YEARLY;INTERVAL=1;BYDAY=-1SU;BYMONTH=3
END:DAYLIGHT
BEGIN:STANDARD
TZOFFSETFROM:+0200
TZOFFSETTO:+0100
TZNAME:CET
DTSTART:19701025T030000
RRULE:FREQ=YEARLY;INTERVAL=1;BYDAY=-1SU;BYMONTH=10
END:STANDARD
END:VTIMEZONE
BEGIN:VEVENT
UID:f1d9ae1a19a7d2f7e4639d38bdc4ff3d@gruene-sl-fl.de
URL;VALUE=URI:https://gruene-sl-fl.de/termine/kreismitgliederversammlung/
LOCATION:Jahnbecks Fairhaus (Lehbeck 10, 24395 Gelting)
SUMMARY:Kreismitgliederversammlung
DESCRIPTION;ALTREP="data:text/html,%3Cp%3ELiebe%20Mitglieder%2C%3Cbr%20%2
 F%3E%0A%3Cbr%20%2F%3E%0Ahiermit%20laden%20wir%20euch%20herzlich%20ein%20z
 ur%3Cbr%20%2F%3E%0A%3Cbr%20%2F%3E%0AKreismitgliederversammlung%3Cbr%20%2F
 %3E%0Aam%20Freitag%2C%20den%2024.%20April%20ab%2018%20Uhr%20%28Ankommen%2
 0ab%2017%3A30%20Uhr%29%3Cbr%20%2F%3E%0A%3Cbr%20%2F%3E%0Ain%20Jahnbecks%20
 Fairhaus%20%28Lehbeck%2010%2C%2024395%20Gelting%29.%3Cbr%20%2F%3E%0A%3Cbr
 %20%2F%3E%0AWir%20befinden%20uns%20mitten%20in%20einem%20wahlkampffreien%
 20Jahr%20und%20hatten%20seit%20letztem%20Jahr%20etwas%20Zeit%20zu%20versc
 hnaufen%20und%20uns%20neu%20zu%20sammeln.%20Doch%20das%20hei%C3%9Ft%20nic
 ht%2C%20dass%20nichts%20los%20ist%3A%20mit%20der%20Urabstimmung%20des%20B
 undesverbands%20steht%20eine%20gro%C3%9Fe%20Entscheidung%20an%2C%20in%20w
 elche%20Richtung%20wir%20als%20Partei%20in%20Sachen%20Mitbestimmung%20geh
 en.%20Hier%C3%BCber%20wird%20jede%2Ar%20von%20euch%20im%20Fr%C3%BChsommer
 %20abstimmen%20d%C3%BCrfen%2C%20dies%20wollen%20wir%20gemeinsam%20mit%20e
 uch%20besprechen%20und%20Fragen%20beantworten%3Cbr%20%2F%3E%0A%28achtet%2
 0hierzu%20auch%20auf%20die%20Veranstaltungsank%C3%BCndigungen%20in%20unse
 rem%20Newsletter%20jeden%20Montag%29.%3Cbr%20%2F%3E%0A%3Cbr%20%2F%3E%0AAu
 %C3%9Ferdem%20wirft%20die%20kommende%20Landtagswahl%202027%20ihre%20Schat
 ten%20vorraus.%20Wir%20m%C3%B6chten%20mit%20euch%20%C3%BCber%20die%20erst
 en%20Schritte%20in%20Richtung%20Landtagswahlkampf%20sprechen.%20In%20unse
 rem%20Kreisgebiet%20wird%20es%20wieder%20zwei%20Wahlkreise%20geben%2C%20w
 elche%20von%20uns%20mit%20Direktkandidat%2Ainnen%20zu%20besetzen%20sind%2
 C%20damit%20die%20Menschen%20am%20Wahltag%20%C3%BCberhaupt%20ihr%20Kreuz%
 20bei%20uns%20machen%20k%C3%B6nnen.%20Diese%20werden%20wir%20auf%20unsere
 r%20n%C3%A4chsten%20Kreismitgliederversammlung%20am%2012.%20September%20w
 %C3%A4hlen.%20Falls%20ihr%20Interesse%20habt%20zu%20kandidieren%20meldet%
 20euch%20gern%20bei%20uns.%20Insbesondere%20freuen%20wir%20uns%20zu%20die
 sem%20Tageordnungspunkt%20auch%20auf%20den%20pers%C3%B6nlichen%20Besuch%2
 0unserer%20Landesvorsitzenden%20Lydia%20Rudow.%3Cbr%20%2F%3E%0A%3Cbr%20%2
 F%3E%0A%3Cbr%20%2F%3E%0AEbenso%20freuen%20wir%20uns%20auf%20den%20pers%C3
 %B6nlichen%20Besuch%20von%20unserem%20Europaabgeordneten%20Rasmus%20Andre
 sen%2C%20der%20%C3%BCber%20aktuelle%20internationale%20Beziehungen%2C%20E
 ntwicklungen%2C%20Krisen%20und%20Kriege%20aus%20europ%C3%A4ischer%20Sicht
 %20berichten%20wird.%20Ein%20hochaktuelles%20Thema%2C%20dem%20wir%20aus%2
 0diesem%20Grund%20extra%20Zeit%20f%C3%BCr%20Fragen%20und%20Diskussionen%2
 0einr%C3%A4umen%20werden.%3Cbr%20%2F%3E%0A%3Cbr%20%2F%3E%0AEin%20weiteres
 %20wichtiges%20Thema%20bei%20dieser%20Kreismitgliederversammlung%20werden
 %20die%20%C3%84nderung%20unserer%20Satzung%20und%20Beitragsordnung%20sein
 .%20Dinge%20entwickeln%20sich%20stetig%20weiter%2C%20Regelungen%20erweise
 n%20sich%20als%20nicht%20zielf%C3%BChrend%20oder%20nicht%20weitreichend%2
 0genug.%20Dar%C3%BCber%20hinaus%20hat%20der%20Landesverband%20vor%20kurze
 m%20eine%20neue%20Muster-Beitragsordnung%20ver%C3%B6ffentlicht%2C%20an%20
 die%20wir%20unsere%20bestehende%20Beitragsordnung%20gerne%20angleichen%20
 m%C3%B6chten.%20Eine%20Synopse%20%C3%BCber%20alle%20zu%20beschlie%C3%9Fen
 den%20%C3%84nderungen%20erhaltet%20ihr%20mit%20dieser%20Einladung.%20Bitt
 e%20nehmt%20euch%20ein%20paar%20Minuten%20Zeit%20um%20diese%20zu%20lesen%
 20und%20euch%20vorzubereiten.%3Cbr%20%2F%3E%0A%3Cbr%20%2F%3E%0AZum%20Abla
 uf%3Cbr%20%2F%3E%0A%3Cbr%20%2F%3E%0ADie%20Tagesordnung%20werden%20wir%20d
 urch%20eine%20kleine%20Pause%20f%C3%BCr%20das%20Abendessen%20unterbrechen
 .%20Wir%20freuen%20uns%2C%20wenn%20trotz%20der%20Pause%20alle%20Anwesende
 n%20bis%20zum%20Ende%20der%20offiziellen%20Tagesordnung%20bleiben.%20Im%2
 0Anschluss%20m%C3%B6chten%20wir%20gerne%20noch%20in%20geselliger%20Runde%
 20mit%20euch%20zusammen%20sitzen%20und%20uns%20abseits%20der%20Tagesordnu
 ng%20austauschen.%3Cbr%20%2F%3E%0A%3Cbr%20%2F%3E%0AVerpflegung%3Cbr%20%2F
 %3E%0AAls%20Abend-Imbiss%20wird%20eine%20vegane%20Suppe%20gereicht.%20Die
 se%2C%20sowie%20Wasser%20sind%20kostenlos.%20Weitere%20Getr%C3%A4nke%20we
 rden%20von%20den%20Teilnehmenden%20bitte%20vor%20Ort%20selbstst%C3%A4ndig
 %20mit%20dem%20Restaurant%20abgerechnet.%20Sollte%20jemandem%20dies%20aus
 %20finanziellen%20Gr%C3%BCnden%20nicht%20m%C3%B6glich%20sein%2C%20%C3%BCb
 ernimmt%20der%20Kreisverband%20selbstverst%C3%A4ndlich%20die%20Kosten.%20
 Allergien%2C%20Unvertr%C3%A4glichkeiten%20und%20abweichende%20Essensw%C3%
 BCnsche%20werden%20uns%20bitte%20%28rechtzeitig%21%29%20vorab%20per%20Ema
 il%20mitgeteilt%3A%20veranstaltung%40gruene-sl-fl.de%3Cbr%20%2F%3E%0A%3Cb
 r%20%2F%3E%0AAnmeldung%3Cbr%20%2F%3E%0AF%C3%BCr%20eine%20bessere%20Planba
 rkeit%20der%20Verpflegung%20bitten%20wir%20um%20Anmeldung%20unter%20veran
 staltung%40gruene-sl-fl.de%20oder%200151%2022813801%20bis%20zum%2020.04.2
 024.%20Eine%20spontane%20Teilnahme%20ist%20aber%20selbstverst%C3%A4ndlich
 %20ebenfalls%20m%C3%B6glich.%3Cbr%20%2F%3E%0A%3Cbr%20%2F%3E%0AWir%20freue
 n%20uns%20auf%20einen%20spannenden%20Abend%20mit%20euch%21%3Cbr%20%2F%3E%
 0A%3Cbr%20%2F%3E%0AHerzliche%20Gr%C3%BC%C3%9Fe%2C%3Cbr%20%2F%3E%0A%3Cbr%2
 0%2F%3E%0Aeuer%20Kreisvorstand%20%26amp%3B%20Kreisgesch%C3%A4ftsf%C3%BChr
 ung%3Cbr%20%2F%3E%0ALisa%2C%20S%C3%B6nke%2C%20Niklas%2C%20Andrea%2C%20Ann
 e%2C%20Daniel%2C%20Klaudia%2C%20Sabine%2C%20Frank%20%26amp%3B%20Katrin%3C
 br%20%2F%3E%0A%3C%2Fp%3E":Liebe Mitglieder\,\n\nhiermit laden wir euch he
 rzlich ein zur\n\nKreismitgliederversammlung\n\nam Freitag\, den 24. Apri
 l ab 18 Uhr (Ankommen ab 17:30 Uhr)\n\nin Jahnbecks Fairhaus (Lehbeck 10\
 , 24395 Gelting).\n\nWir befinden uns mitten in einem wahlkampffreien Jah
 r und hatten seit letztem Jahr etwas Zeit zu verschnaufen und uns neu zu 
 sammeln. Doch das heißt nicht\, dass nichts los ist: mit der Urabstimmun
 g des Bundesverbands steht eine große Entscheidung an\, in welche Richtu
 ng wir als Partei in Sachen Mitbestimmung gehen. Hierüber wird jede*r vo
 n euch im Frühsommer abstimmen dürfen\, dies wollen wir gemeinsam mit e
 uch besprechen und Fragen beantworten\n\n(achtet hierzu auch auf die Vera
 nstaltungsankündigungen in unserem Newsletter jeden Montag).\n\nAußerde
 m wirft die kommende Landtagswahl 2027 ihre Schatten vorraus. Wir möchte
 n mit euch über die ersten Schritte in Richtung Landtagswahlkampf sprech
 en. In unserem Kreisgebiet wird es wieder zwei Wahlkreise geben\, welche 
 von uns mit Direktkandidat*innen zu besetzen sind\, damit die Menschen am
  Wahltag überhaupt ihr Kreuz bei uns machen können. Diese werden wir au
 f unserer nächsten Kreismitgliederversammlung am 12. September wählen. 
 Falls ihr Interesse habt zu kandidieren meldet euch gern bei uns. Insbeso
 ndere freuen wir uns zu diesem Tageordnungspunkt auch auf den persönlich
 en Besuch unserer Landesvorsitzenden Lydia Rudow.\n\nEbenso freuen wir un
 s auf den persönlichen Besuch von unserem Europaabgeordneten Rasmus Andr
 esen\, der über aktuelle internationale Beziehungen\, Entwicklungen\, Kr
 isen und Kriege aus europäischer Sicht berichten wird. Ein hochaktuelles
  Thema\, dem wir aus diesem Grund extra Zeit für Fragen und Diskussionen
  einräumen werden.\n\nEin weiteres wichtiges Thema bei dieser Kreismitgl
 iederversammlung werden die Änderung unserer Satzung und Beitragsordnung
  sein. Dinge entwickeln sich stetig weiter\, Regelungen erweisen sich als
  nicht zielführend oder nicht weitreichend genug. Darüber hinaus hat de
 r Landesverband vor kurzem eine neue Muster-Beitragsordnung veröffentlic
 ht\, an die wir unsere bestehende Beitragsordnung gerne angleichen möcht
 en. Eine Synopse über alle zu beschließenden Änderungen erhaltet ihr m
 it dieser Einladung. Bitte nehmt euch ein paar Minuten Zeit um diese zu l
 esen und euch vorzubereiten.\n\nZum Ablauf\n\nDie Tagesordnung werden wir
  durch eine kleine Pause für das Abendessen unterbrechen. Wir freuen uns
 \, wenn trotz der Pause alle Anwesenden bis zum Ende der offiziellen Tage
 sordnung bleiben. Im Anschluss möchten wir gerne noch in geselliger Rund
 e mit euch zusammen sitzen und uns abseits der Tagesordnung austauschen.\
 n\nVerpflegung\n\nAls Abend-Imbiss wird eine vegane Suppe gereicht. Diese
 \, sowie Wasser sind kostenlos. Weitere Getränke werden von den Teilnehm
 enden bitte vor Ort selbstständig mit dem Restaurant abgerechnet. Sollte
  jemandem dies aus finanziellen Gründen nicht möglich sein\, übernimmt
  der Kreisverband selbstverständlich die Kosten. Allergien\, Unverträgl
 ichkeiten und abweichende Essenswünsche werden uns bitte (rechtzeitig!) 
 vorab per Email mitgeteilt: veranstaltung@gruene-sl-fl.de\n\nAnmeldung\n\
 nFür eine bessere Planbarkeit der Verpflegung bitten wir um Anmeldung un
 ter veranstaltung@gruene-sl-fl.de oder 0151 22813801 bis zum 20.04.2024. 
 Eine spontane Teilnahme ist aber selbstverständlich ebenfalls möglich.\
 n\nWir freuen uns auf einen spannenden Abend mit euch!\n\nHerzliche Grü
 ße\,\n\neuer Kreisvorstand & Kreisgeschäftsführung\n\nLisa\, Sönke\, 
 Niklas\, Andrea\, Anne\, Daniel\, Klaudia\, Sabine\, Frank & Katrin
CLASS:PUBLIC
DTSTART;TZID=Europe/Berlin:20260424T180000
DTEND;TZID=Europe/Berlin:20260424T210000
DTSTAMP:20260420T132745
END:VEVENT
END:VCALENDAR