BEGIN:VCALENDAR
VERSION:2.0
PRODID:gruene-sl-fl.de
METHOD:PUBLISH
BEGIN:VTIMEZONE
TZID:Europe/Berlin
X-LIC-LOCATION:Europe/Berlin
BEGIN:DAYLIGHT
TZOFFSETFROM:+0100
TZOFFSETTO:+0200
TZNAME:CEST
DTSTART:19700329T020000
RRULE:FREQ=YEARLY;INTERVAL=1;BYDAY=-1SU;BYMONTH=3
END:DAYLIGHT
BEGIN:STANDARD
TZOFFSETFROM:+0200
TZOFFSETTO:+0100
TZNAME:CET
DTSTART:19701025T030000
RRULE:FREQ=YEARLY;INTERVAL=1;BYDAY=-1SU;BYMONTH=10
END:STANDARD
END:VTIMEZONE
BEGIN:VEVENT
UID:e684400f40145847524222690b7d07b1@gruene-sl-fl.de
URL;VALUE=URI:https://gruene-sl-fl.de/termine/ortsverband-gluecksburg-unt
 erwegs-solidarische-landwirtschaft-holnis/
LOCATION:Solidarische Landwirtschaft Holnis
SUMMARY:Ortsverband Glücksburg unterwegs – Solidarische Landwirtschaft
  Holnis
DESCRIPTION;ALTREP="data:text/html,%3Cp%3EWir%20gehen%20raus%20und%20verl
 egen%20unser%20Ortsverbandstreffen%20zur%20Solidarischen%20Landwirtschaft
 %20Holnis.%20Bei%20unserem%20Ausflug%20nach%20Holnis%20schauen%20wir%20hi
 nter%20die%20Kulissen%20der%20SoLaWi%20und%20erfahren%20aus%20erster%20Ha
 nd%2C%20wie%20dort%20gearbeitet%20wird%20und%20wie%20die%20solidarische%2
 0Landwirtschaft%20funktioniert.%3Cbr%20%2F%3E%0A%3Cbr%20%2F%3E%0AInteress
 ierte%20sind%20herzlich%20willkommen%20und%20wir%20freuen%20uns%20%C3%BCb
 er%20eine%20Anmeldung%20unter%20gluecksburg%40gruene-sl-fl.de%3C%2Fp%3E":
 Wir gehen raus und verlegen unser Ortsverbandstreffen zur Solidarischen L
 andwirtschaft Holnis. Bei unserem Ausflug nach Holnis schauen wir hinter 
 die Kulissen der SoLaWi und erfahren aus erster Hand\, wie dort gearbeite
 t wird und wie die solidarische Landwirtschaft funktioniert.\n\nInteressi
 erte sind herzlich willkommen und wir freuen uns über eine Anmeldung unt
 er gluecksburg@gruene-sl-fl.de
CLASS:PUBLIC
DTSTART;TZID=Europe/Berlin:20260507T180000
DTEND;TZID=Europe/Berlin:20260507T200000
DTSTAMP:20260422T103820
END:VEVENT
END:VCALENDAR