BEGIN:VCALENDAR
VERSION:2.0
PRODID:gruene-sl-fl.de
METHOD:PUBLISH
BEGIN:VTIMEZONE
TZID:Europe/Berlin
X-LIC-LOCATION:Europe/Berlin
BEGIN:DAYLIGHT
TZOFFSETFROM:+0100
TZOFFSETTO:+0200
TZNAME:CEST
DTSTART:19700329T020000
RRULE:FREQ=YEARLY;INTERVAL=1;BYDAY=-1SU;BYMONTH=3
END:DAYLIGHT
BEGIN:STANDARD
TZOFFSETFROM:+0200
TZOFFSETTO:+0100
TZNAME:CET
DTSTART:19701025T030000
RRULE:FREQ=YEARLY;INTERVAL=1;BYDAY=-1SU;BYMONTH=10
END:STANDARD
END:VTIMEZONE
BEGIN:VEVENT
UID:7226615553ae6f1005d39d5ba390311e@gruene-sl-fl.de
URL;VALUE=URI:https://gruene-sl-fl.de/termine/vogelstimmenfuehrung/
LOCATION:
SUMMARY:Vogelstimmenführung
DESCRIPTION;ALTREP="data:text/html,%3Cp%3EWelcher%20Vogel%20hat%20angebli
 ch%20Beethoven%20inspiriert%3F%3Cbr%20%2F%3E%0A%3Cbr%20%2F%3E%0AWas%20hab
 en%20das%20Wintergoldh%C3%A4hnchen%20mit%20Gummib%C3%A4rchen%20zu%20tun%3
 F%3Cbr%20%2F%3E%0A%3Cbr%20%2F%3E%0AUnd%20welcher%20winzige%20Vogel%20ist%
 20einer%20der%20lautesten%20im%20Wald%3F%3Cbr%20%2F%3E%0A%3Cbr%20%2F%3E%0
 AAll%20das%20und%20noch%20viel%20mehr%20%C3%BCber%20Fr%C3%BChlingsv%C3%B6
 gel%20wollen%20wir%20bei%20einer%20gemeinsamen%20Wanderung%20durch%20den%
 20Idstedter%20Wald%20herausfinden%21%20Die%20Strecke%20betr%C3%A4gt%20etw
 a%203km%2C%20dauert%20ca.%201%2C5%20bis%202%20Stunden%20und%20f%C3%BChrt%
 20uns%20an%20verschiedenen%20Orte%20im%20Wald%2C%20an%20denen%20wir%20gem
 einsam%20herausfinden%2C%20welche%20V%C3%B6gel%20ihren%20Gesang%20ert%C3%
 B6nen%20lassen.%20Wer%20hat%2C%20bringt%20bitte%20ein%20Fernglas%20mit.%3
 Cbr%20%2F%3E%0A%3Cbr%20%2F%3E%0AOrt%3A%20Idstedter%20Wald.%20Der%20genaue
 %20Treffpunkt%20wird%20noch%20bekannt%20gegeben.%3Cbr%20%2F%3E%0A%3Cbr%20
 %2F%3E%0AAufgrund%20begrenzter%20Teilnehmendenzahl%20ist%20eine%20Anmeldu
 ng%20an%20andrea.soennichsen%40gruene-sl-fl.de%20erforderlich%21%20%3C%2F
 p%3E":Welcher Vogel hat angeblich Beethoven inspiriert?\n\nWas haben das 
 Wintergoldhähnchen mit Gummibärchen zu tun?\n\nUnd welcher winzige Voge
 l ist einer der lautesten im Wald?\n\nAll das und noch viel mehr über Fr
 ühlingsvögel wollen wir bei einer gemeinsamen Wanderung durch den Idste
 dter Wald herausfinden! Die Strecke beträgt etwa 3km\, dauert ca. 1\,5 b
 is 2 Stunden und führt uns an verschiedenen Orte im Wald\, an denen wir 
 gemeinsam herausfinden\, welche Vögel ihren Gesang ertönen lassen. Wer 
 hat\, bringt bitte ein Fernglas mit.\n\nOrt: Idstedter Wald. Der genaue T
 reffpunkt wird noch bekannt gegeben.\n\nAufgrund begrenzter Teilnehmenden
 zahl ist eine Anmeldung an andrea.soennichsen@gruene-sl-fl.de erforderlic
 h!
CLASS:PUBLIC
DTSTART;TZID=Europe/Berlin:20260425T180000
DTEND;TZID=Europe/Berlin:20260425T190000
DTSTAMP:20260420T145423
END:VEVENT
END:VCALENDAR